BEGIN:VCALENDAR
VERSION:2.0
PRODID:-//Dixie Jewels Insulator Club   - ECPv6.15.3//NONSGML v1.0//EN
CALSCALE:GREGORIAN
METHOD:PUBLISH
X-ORIGINAL-URL:https://insulators-dixiejewels.com
X-WR-CALDESC:Events for Dixie Jewels Insulator Club  
REFRESH-INTERVAL;VALUE=DURATION:PT1H
X-Robots-Tag:noindex
X-PUBLISHED-TTL:PT1H
BEGIN:VTIMEZONE
TZID:America/Halifax
BEGIN:DAYLIGHT
TZOFFSETFROM:-0400
TZOFFSETTO:-0300
TZNAME:ADT
DTSTART:20160313T060000
END:DAYLIGHT
BEGIN:STANDARD
TZOFFSETFROM:-0300
TZOFFSETTO:-0400
TZNAME:AST
DTSTART:20161106T050000
END:STANDARD
BEGIN:DAYLIGHT
TZOFFSETFROM:-0400
TZOFFSETTO:-0300
TZNAME:ADT
DTSTART:20170312T060000
END:DAYLIGHT
BEGIN:STANDARD
TZOFFSETFROM:-0300
TZOFFSETTO:-0400
TZNAME:AST
DTSTART:20171105T050000
END:STANDARD
END:VTIMEZONE
BEGIN:VTIMEZONE
TZID:UTC
BEGIN:STANDARD
TZOFFSETFROM:+0000
TZOFFSETTO:+0000
TZNAME:UTC
DTSTART:20160101T000000
END:STANDARD
END:VTIMEZONE
BEGIN:VEVENT
DTSTART;TZID=America/Halifax:20170819T083000
DTEND;TZID=America/Halifax:20170819T143000
DTSTAMP:20260423T205559
CREATED:20170312T033320Z
LAST-MODIFIED:20170312T034403Z
UID:2642-1503131400-1503153000@insulators-dixiejewels.com
SUMMARY:Summer Swap Meet- Webb School  Bell Buckle\, TN
DESCRIPTION:Bell Buckle is located south of Nashville\, off I-24.  There is no fee to set up\, so everyone is invited to bring insulators or other collectibles to sell\, trade or swap. A number of tables will be available or you may bring your own. Please contact Jim ahead of time to reserve sales tables. A noon meal will be served. If you wish to contribute\, chips or desserts would be welcome. Come and enjoy a day with fellow collectors at this brand new venue for DJIC.  For more information\, contact  Jim Wright at  sjwright@frontiernet.net.
URL:https://insulators-dixiejewels.com/event/summer-swap-meet/
LOCATION:Webb School\,  319 Webb Road East (TN Hwy. 82E)\, Bell Buckle\, TN\, 37020\, United States
END:VEVENT
BEGIN:VEVENT
DTSTART;TZID=America/Halifax:20170520T090000
DTEND;TZID=America/Halifax:20170520T140000
DTSTAMP:20260423T205559
CREATED:20170312T032021Z
LAST-MODIFIED:20170312T033800Z
UID:2636-1495270800-1495288800@insulators-dixiejewels.com
SUMMARY:Spring 2017 Swap Meet Bethany Baptist Church Loudon\, TN
DESCRIPTION:The church is located south of Knoxville\, TN and is only 1 1/4 miles off exit 72 on I-75. There is no fee to set up a sales table and everyone is invited to bring insulators or other collectibles to sell\, trade or swap. Collectors are expected from 6-8 states and there is always a very good selection of insulators. A limited number of sales tables will be available on a first come-first served basis or you may bring your own. A noon meal will be served. Everyone is invited to join us for lunch. If you wish to contribute to the meal\, side dishes\, drinks or desserts would be welcome. more information\, please contact contact Stephen Ruppel\, (865) 228-7086.  
URL:https://insulators-dixiejewels.com/event/spring-2017-swap-meet/
LOCATION:Bethany Baptist Church\, 3586 Hwy. 72 North\, Loudon\, TN\, 37774\, United States
END:VEVENT
BEGIN:VEVENT
DTSTART;TZID=America/Halifax:20170218T083000
DTEND;TZID=America/Halifax:20170218T143000
DTSTAMP:20260423T205559
CREATED:20170105T012824Z
LAST-MODIFIED:20170105T020017Z
UID:2621-1487406600-1487428200@insulators-dixiejewels.com
SUMMARY:Winter 2017 Dixie Jewels Insulator Club Swap Meet
DESCRIPTION:The Dixie Jewels Insulator Club’s winter swap meet\, hosted by David Erickson \, will be held on Saturday\, February 18\, 2017 from 8:30am-2:30pm in Winston-Salem\, North Carolina at the Bible Life Church\, located at 2510 Gumtree Road\, Winston-Salem\, NC 27107. All collectors are welcome. There is always a good selection of insulators in all price ranges. If you have insulators you wish to sell or trade\, please consider setting up a sales table. Dave will have a few tables available\, or you may bring your own. Reserve them before the swap meet date by contacting DAVID ERICKSON at (336) 247-1928 or e-mail at Dave.erickson1@aol.com. There will be a noon meal and everyone is invited to join us. If you wish to bring a side dish or dessert\, it would be appreciated but is certainly not required. Join Dixie Jewels for some great winter fellowship with other collectors.
URL:https://insulators-dixiejewels.com/event/february-2017-swap-meet/
LOCATION:Bible Life Church\, 2510 Gumtree Road\, Winston-Salem\, NC\, 27107\, United States
END:VEVENT
BEGIN:VEVENT
DTSTART;VALUE=DATE:20161119
DTEND;VALUE=DATE:20161120
DTSTAMP:20260423T205559
CREATED:20160205T054930Z
LAST-MODIFIED:20161108T022515Z
UID:77-1479513600-1479599999@insulators-dixiejewels.com
SUMMARY:Fall 2016 Dixie Jewels Insulator Club Swap Meet
DESCRIPTION:SATURDAY\, NOVEMBER 19\, 2016 HILLDALE BAPTIST CHURCH FAMILY LIFE CTR. CLARKSVILLE\, TN\n8:30-2:30 Central \nThe Dixie Jewels fall swap meet\, hosted by Tim Baggett\, will be Saturday\, November 19 from 8:30-2:30 Central. It will be at the Hilldale Baptist Church Family Life Center\, 250 Old Farmers Rd.\, Clarksville\, TN 37043. The church is located not far from the Kentucky line\, approximately 2 miles off exit 11 on I-24. The pavilion is located at the church’s recreation area and is covered\, but open. Tim advises that in case of bad weather\, we’ll resort to Plan B\, inside a building at the same location. Bathrooms are on-site. A limited number of 6 foot tables are available\, or you may bring your own. Please call Tim ahead of the swap meet date to reserve tables.There is no charge to set up a sales table\, so plan to bring any insulators you wish to trade or sell and join the fun. Coffee and donuts will be available in the morning. A noon meal will be served\, cooked by a three time Tennessee Grand Champion BBQ Master\, so everyone is invited to eat with us. If you wish to contribute to the meal\, desserts would be appreciated. We always expect collectors from all over the southeast\, so don’t miss it! Please contact Tim to let him know you are coming and if you need a sales table. Make plans now to spend the day with your Dixie Jewels Insulator Club friends\, add to your collection and enjoy some great fellowship. \nFor additional show info\, table reservations and other questions\, please contact: \n\n\n\n\nTim Baggett\, (931) 237-0290\, tmbagget@gmail.com \n\n\n\n\nClarksville\, TN Area Motels and Hotels \nExit 11: (Exit for show)\, Hwy. 76 – Martin Luther King Jr. Blvd. \n– Comfort Inn (former Holiday Inn Express) (800) 301-7541 \n– Days Inn (931)358-3194 \n\n\n\n\nExit 4: (North of show site)\, Hwy. 79\, Wilma Rudolph Blvd. \n\n–  Hampton Inn and Suites (931) 378-6070\n–  Super 8 Northeast  (931) 645-6300\n–  Country Inn & Suites by Carlson (931) 645-2400\n–  Best Western Plus Atrium & Suites  (931) 919-4997\n–  Quality Inn  (931) 648-4848\n–  LaQuinta Inn  (931) 906-0606\n–  Red Roof Inn  (931) 905-1555\n\n\n\n  \n\n\n\n\nA Google search of Clarksville Motels will give maps and reviews for these motels.
URL:https://insulators-dixiejewels.com/event/fall-2016-dixie-jewels-insulator-club-swap-meet/
LOCATION:HILLDALE BAPTIST CHURCH FAMILY LIFE CTR\, 250 Old Farmers Rd \, Clarksville\, TN\, 37043
END:VEVENT
BEGIN:VEVENT
DTSTART;TZID=America/Halifax:20160820T083000
DTEND;TZID=America/Halifax:20160820T143000
DTSTAMP:20260423T205559
CREATED:20160802T012300Z
LAST-MODIFIED:20160802T012554Z
UID:2561-1471681800-1471703400@insulators-dixiejewels.com
SUMMARY:Summer 2016 Dixie Jewels Insulator Club Swap Meet
DESCRIPTION:The summer Dixie Jewels Insulator Club swap meet\, hosted by Bill Haley\, will take place Saturday\, August 20 at the Daisy United Methodist Church\, 9508 Dayton Pike\, Soddy-Daisy\, TN 37379 from 8:30-2:30. The church is located about 20 miles north of Chattanooga. Several DJIC swaps have been held here. We always enjoy heavy walk-in traffic and expect collectors from 6-10 states. There is no fee to set up and everyone is invited to bring insulators or other collectibles to sell\, trade or swap. A limited number of tables will be available on a first come-first served basis or you may bring your own. Please call ahead of time to reserve tables. A noon BBQ meal will be served\, so plan to join us for lunch. If you wish to contribute to the meal\, side dishes\, drinks or desserts would be welcome. If you can’t bring anything\, don’t worry – we always have plenty to eat. Come and enjoy a day with fellow collectors while adding some jewels to your collection. For more information or table reservations\, please contact: BILL HALEY\, (423) 326-9248\, wgh@tnaqua.org.
URL:https://insulators-dixiejewels.com/event/2561/
LOCATION:Daisy United Methodist Church\, 9508 Dayton Pike\, Soddy-Daisy\, TN\, 37379\, United States
END:VEVENT
BEGIN:VEVENT
DTSTART;VALUE=DATE:20160729
DTEND;VALUE=DATE:20160801
DTSTAMP:20260423T205559
CREATED:20160205T062046Z
LAST-MODIFIED:20160205T062046Z
UID:81-1469750400-1470009599@insulators-dixiejewels.com
SUMMARY:National Insulator Association Convention
DESCRIPTION:The 47th NIA “National” will be held from Friday\, July 29 to Sunday\, July 31\, 2016 at the Horizon Convention Center\, 601 S. High St.\, Muncie\, IN 47305. Muncie was home to the well-known Hemingray Glass Co.\, a major manufacturer of insulators from 1888 to 1972. There will be planned activities such as tours of portions of the closed Hemingray plant for anyone who is interested. You can find info at nia.org/national. Our hosts will be Bob Stahr\, (630) 793-5345\, e-mail Bob@hemingray.com\, and Rick Soller\, (847) 782-8602\, e-mail Com574@clcillinois.edu.
URL:https://insulators-dixiejewels.com/event/national-insulator-association-convention/
LOCATION:Horizon Convention Center\, 601 S. High St.\, Muncie\, IN\, 47305\, United States
END:VEVENT
BEGIN:VEVENT
DTSTART;VALUE=DATE:20160624
DTEND;VALUE=DATE:20160626
DTSTAMP:20260423T205559
CREATED:20160205T061554Z
LAST-MODIFIED:20160205T062440Z
UID:79-1466726400-1466899199@insulators-dixiejewels.com
SUMMARY:Insulators Collectors of America 2016 Insulator Expo
DESCRIPTION:The Insulator Collectors of America 2016 Insulator Expo will be held in Washington\, PA (just south of Pittsburgh) on Fri.\, June 24 and Sat.\, June 25 at Washington Fairgrounds\, Hall One. This show will be hosted by the Western Reserve Insulator Club. Reservations for sales tables are $35\, first table\, $65 for two tables\, $90 for three tables\, and $110 for four tables. There will also be a Friday evening BBQ banquet. For contracts and more info\, contact John Hovanec\, phone (216) 392-3622\, or e-mail jrhovanec@ymail.com. It looks like this will be a good one\, so give it some consideration.
URL:https://insulators-dixiejewels.com/event/insulators-collectors-of-america-2016-insulator-expo/
LOCATION:Washington Fairgrounds\, Hall One\, Washington \, PA\, United States
END:VEVENT
BEGIN:VEVENT
DTSTART;TZID=UTC:20160521T090000
DTEND;TZID=UTC:20160521T150000
DTSTAMP:20260423T205559
CREATED:20160205T052702Z
LAST-MODIFIED:20160501T015658Z
UID:72-1463821200-1463842800@insulators-dixiejewels.com
SUMMARY:Spring 2016 Dixie Jewels Insulator Club Swap Meet
DESCRIPTION:The spring Dixie Jewels Insulator Club swap meet will be held at Mountain Home\, NC from 9:00-3:00 at the Mountain Home Fire and Rescue on U.S. Highway 25. This is always a popular meeting location and collectors will be expected from all over the Southeast. Bring a table and any insulators you wish to show\, trade or sell. There is no charge to set up. Fred Pittman\, (828) 768- 5060 or trailat@bellsouth.net\, will be our host. Be sure to mark your calendar for the third Saturday in May and plan to join us! Add to your collection and enjoy a day of fellowship with other collectors surrounded by the beautiful mountains of North Carolina. \n  \nDIRECTIONS TO MOUNTAIN HOME FIRE AND RESCUE  \nIf coming from Knoxville\, Tennessee: \n– Take I-40 East into North Carolina; \n– Get on I-26 South; \n– Follow I-26 to U.S. 25\, Exit 44; \n– Take Hwy. 25 south; \n– Excluding lights at interstate\, go through 3 more lights (2nd light is at GB Shoes; \n– Continue on U.S. 25 South to Mountain Home; \n– Mountain Home Fire and Rescue is on the left\, about 200 yards past Post Office (on right). \nNOTE: Total distance from I-26 to fire department is 2.3 miles. \nIf you are coming from the Atlanta area and points south:  \n\nExit I-85 to Georgia-South Carolina line;\n - Take Hwy. 11 to U.S. 25;\n– Exit U.S. 25 to I-26 and continue to Exit 44;\nFollow directions above.\n\nIf you get lost\, please call Fred Pittman at (828) 768-5060  \n  \nSome Hotels in the Mountain Home / Hendersonville / Asheville area  \nMountain Inn & Suites  \n447 Naples Rd. \nHendersonville\, NC 28792 \n(828) 684-0040 \n(closest to Mountain Home Fire Dept.) \n  \nEcono Lodge – Asheville Airport  \n196 Underwood Road \nFletcher\, NC 28732-8634 \n(828) 684-1200 \nFax (828) 684-2839 \n  \nBudget Motel  \n250 Underwood Road \nFletcher\, NC 28732-9634 \n(828) 684-2200 \n  \nHoliday Inn Express  \n111 Commercial Blvd. \nFlat Rock\, NC 28731-7747 \n(828) 698-8899 \nFax (828) 698-8622 \n  \nQuality Inn & Suites  \n201 Sugarloaf Rd. \nHendersonville\, NC 28792-9386 \n(828) 692-7231: \nFax (828) 693-9905 \n  \nRamada \n150 Sugarloaf Rd. \nHendersonville\, NC 28792-9236 \n(828) 697-0006 \nFax (828) 697-0006 \n  \nDays Inn  \n102 Mitchelle Drive \nHendersonville\, NC 28792 \n(828) 697-5899 \nFax (828) 697-5999
URL:https://insulators-dixiejewels.com/event/spring-dixie-jewels-swap-meet/
LOCATION:Mountain Home Fire Department\, 3710 Asheville Hwy\, Mountain Home\, NC\, 28758\, United States
END:VEVENT
BEGIN:VEVENT
DTSTART;TZID=UTC:20160220T083000
DTEND;TZID=UTC:20160220T150000
DTSTAMP:20260423T205559
CREATED:20160131T100610Z
LAST-MODIFIED:20160131T102442Z
UID:66-1455957000-1455980400@insulators-dixiejewels.com
SUMMARY:Winter 2016 Dixie Jewels Insulator Club Meeting and Swap Meet
DESCRIPTION:The Dixie Jewels Insulator Club winter swap meet in will be hosted by Roy Hale at the Butler County Fairgrounds\, located at 260 American Legion Road in Greenville\, Alabama on Saturday\, February 20\, 2016. Have you made a New Years resolution to sell excess insulators in your collection\, or to refocus your collecting interests? Consider setting up a sales table. There is no charge to set up. Around 20 sales tables are available\, but they must be reserved before the swap meet date by contacting Roy at the e-mail address below. There will be plenty of insulators there for purchase or trade. Beat the winter blues with a trip to south Alabama and a day of fellowship with other collectors! \nRoy will provide a delicious noon meal of BBQ\, baked beans and potato salad. He asks others to bring a covered dish\, dessert or drinks to round out the meal. Please contact Roy Hale at (334) 437-0820 or e-mail him at rdhale423@centurylink.net to reserve a table and to let him know what you can contribute to the noon meal.
URL:https://insulators-dixiejewels.com/event/winter-2016-dixie-jewels-insulator-club-meeting-and-swap-meet/
LOCATION:Butler County Fair Grounds\, 260 American Legion Road\, Greenville\, AL\, 36037\, United States
END:VEVENT
END:VCALENDAR